BEGIN:VCALENDAR
VERSION:2.0
PRODID:-//https://gouren.bzh///NONSGML kigkonsult.se iCalcreator 2.10.15//
METHOD:PUBLISH
BEGIN:VEVENT
UID:20260421T161123CEST-3561aNjHuK@https://gouren.bzh/
DTSTAMP:20260421T141123Z
DESCRIPTION:Stage International de Luttes Celtiques\nLa Fédération de Goure
 n propose un stage international dédié au Gouren\, au Back-hold \, à la Lu
 cha Leònesa et à l'arbitrage du Gouren\, du jeudi 21 mai au dimanche 24 ma
 i.&nbsp\;Pendant trois jours\, lutteurs et lutteuses se retrouvent à Ti ar
  Gouren pour progresser\, partager leurs pratiques et vivre une expérience
  sportive ouverte sur l’international.\nAu programme également : des momen
 ts conviviaux et des visites touristiques\, pour découvrir le territoire e
 t prolonger les échanges en dehors du tapis.\nLe stage se prolonge par un 
 tournoi de Gouren ouvert dès la catégorie cadets\, le dimanche 24 mai.\nC’
 est pour qui ?\n\nTous les lutteurs et lutteuses dès 16 ans.\nÀ la carte :
  Tu viens 1 jour\, 2 jours... ou tu tentes l'immersion totale sur tout le 
 stage !\n\nJe m'inscris&nbsp\; https://gouren.bzh/evenement/103-stage-inte
 rnational
DTSTART:20260521T160000Z
DTEND:20260524T180000Z
LOCATION:Ti ar Gouren  ()
SUMMARY:Stage International 
URL:https://gouren.bzh/evenement/103-stage-international
END:VEVENT
END:VCALENDAR
